BEGIN:VCALENDAR
VERSION:2.0
PRODID:Fort Bend County, TX Calendar Creator
METHOD:PUBLISH
BEGIN:VEVENT
DTSTAMP:20211129T084532
DTSTART:20180904T100000
DTEND:20180904T040000
SUMMARY:Chimneystone Planned Community Development Homeowners Assoc, Inc. vs. Donald H. Kelly and Lynn E. Kelly
DESCRIPTION:<p><strong>Real Property</strong></p>
<p><strong></strong></p>
<p>LOT Eleven (11),In  BLOCK Seven (7), of Chimneystone Section Two (2), an Addition in FORT BEND COUNTY, TEXAS, ACCORDING TO THE MAP OR 
CLASS:PUBLIC
END:VEVENT
END:VCALENDAR
